BEGIN:VCALENDAR
VERSION:2.0
PRODID:-//hacksw/handcal//NONSGML v1.0//EN
BEGIN:VEVENT
SUMMARY:Brevet federal feminin 100 km
UID:68f1c63d-0ba6-4fd2-b963-fd6420c72ecd
DTSTART:20260412T060000Z
DTEND:20260412T140000Z
LOCATION:Localisation 16 avenue de Rossi 64100 Bayonne
CATEGORIES:Sportif
STATUS:
DESCRIPTION:<p>Organise par le Club Olympique Bayonnais sous l'egide
 du Codep 64</p>
 
 <p>100 km pour 406 m de denivele</p>
URL;VALUE=URI:https://cycloclub-garazi.sportsregions.fr/evenements/2026/04/12/brevet-federal-feminin-100-km-2436547
END:VEVENT
END:VCALENDAR
